BEGIN:VCALENDAR
VERSION:2.0
PRODID:-//Hemophilia Association of New York - ECPv6.15.20//NONSGML v1.0//EN
CALSCALE:GREGORIAN
METHOD:PUBLISH
X-ORIGINAL-URL:https://hemophiliany.com
X-WR-CALDESC:Events for Hemophilia Association of New York
REFRESH-INTERVAL;VALUE=DURATION:PT1H
X-Robots-Tag:noindex
X-PUBLISHED-TTL:PT1H
BEGIN:VTIMEZONE
TZID:America/New_York
BEGIN:DAYLIGHT
TZOFFSETFROM:-0500
TZOFFSETTO:-0400
TZNAME:EDT
DTSTART:20230312T070000
END:DAYLIGHT
BEGIN:STANDARD
TZOFFSETFROM:-0400
TZOFFSETTO:-0500
TZNAME:EST
DTSTART:20231105T060000
END:STANDARD
BEGIN:DAYLIGHT
TZOFFSETFROM:-0500
TZOFFSETTO:-0400
TZNAME:EDT
DTSTART:20240310T070000
END:DAYLIGHT
BEGIN:STANDARD
TZOFFSETFROM:-0400
TZOFFSETTO:-0500
TZNAME:EST
DTSTART:20241103T060000
END:STANDARD
BEGIN:DAYLIGHT
TZOFFSETFROM:-0500
TZOFFSETTO:-0400
TZNAME:EDT
DTSTART:20250309T070000
END:DAYLIGHT
BEGIN:STANDARD
TZOFFSETFROM:-0400
TZOFFSETTO:-0500
TZNAME:EST
DTSTART:20251102T060000
END:STANDARD
END:VTIMEZONE
BEGIN:VEVENT
DTSTART;VALUE=DATE:20241101
DTEND;VALUE=DATE:20241104
DTSTAMP:20260423T091726
CREATED:20240124T185352Z
LAST-MODIFIED:20240919T184730Z
UID:504-1730419200-1730678399@hemophiliany.com
SUMMARY:Steven L. Margolies\, MD Family Educational Conference
DESCRIPTION:For families affected by bleeding disorders.  Held at Skytop Resort\, Skytop\, PA.  Transportation from NYC provided. \nREGISTER HERE !!!
URL:https://hemophiliany.com/event/steven-l-margolies-md-family-educational-conference/
LOCATION:Skytop Resort\, 1 Skytop Dr\, Skytop\, PA\, 18357\, United States
ORGANIZER;CN="Elizabeth Cedeno":MAILTO:elizabethc@hemophiliany.com
END:VEVENT
END:VCALENDAR