BEGIN:VCALENDAR
VERSION:2.0
PRODID:-//Hemophilia Association of New York - ECPv6.15.20//NONSGML v1.0//EN
CALSCALE:GREGORIAN
METHOD:PUBLISH
X-WR-CALNAME:Hemophilia Association of New York
X-ORIGINAL-URL:https://hemophiliany.com
X-WR-CALDESC:Events for Hemophilia Association of New York
REFRESH-INTERVAL;VALUE=DURATION:PT1H
X-Robots-Tag:noindex
X-PUBLISHED-TTL:PT1H
BEGIN:VTIMEZONE
TZID:America/New_York
BEGIN:DAYLIGHT
TZOFFSETFROM:-0500
TZOFFSETTO:-0400
TZNAME:EDT
DTSTART:20250309T070000
END:DAYLIGHT
BEGIN:STANDARD
TZOFFSETFROM:-0400
TZOFFSETTO:-0500
TZNAME:EST
DTSTART:20251102T060000
END:STANDARD
BEGIN:DAYLIGHT
TZOFFSETFROM:-0500
TZOFFSETTO:-0400
TZNAME:EDT
DTSTART:20260308T070000
END:DAYLIGHT
BEGIN:STANDARD
TZOFFSETFROM:-0400
TZOFFSETTO:-0500
TZNAME:EST
DTSTART:20261101T060000
END:STANDARD
BEGIN:DAYLIGHT
TZOFFSETFROM:-0500
TZOFFSETTO:-0400
TZNAME:EDT
DTSTART:20270314T070000
END:DAYLIGHT
BEGIN:STANDARD
TZOFFSETFROM:-0400
TZOFFSETTO:-0500
TZNAME:EST
DTSTART:20271107T060000
END:STANDARD
END:VTIMEZONE
BEGIN:VEVENT
DTSTART;TZID=America/New_York:20260226T180000
DTEND;TZID=America/New_York:20260226T200000
DTSTAMP:20260423T105824
CREATED:20260204T200247Z
LAST-MODIFIED:20260204T200247Z
UID:1597-1772128800-1772136000@hemophiliany.com
SUMMARY:HANY x Novo Nordisk Alhemo Dinner
DESCRIPTION:  \nYou’re invited to an engaging evening at Ramerino Italian Prime on Thursday\, February 26th at 6:00 PM. Discover Alhemo\, a subcutaneous treatment for  \nHemophilia A and B\, while enjoying a complimentary dinner in a welcoming\, supportive setting. \nThis event is designed for patients\, caregivers\, and families who want to: \n\nLearn about today’s evolving treatment options\n Connect with others facing similar experiences\nGain confidence in making care decisions\n\nRegister Here !!!
URL:https://hemophiliany.com/event/hany-x-novo-nordisk-alhemo-dinner/
LOCATION:Ramerino Italian Prime\, 16 E 39th St\,\, New York NY 10016\, NY\, 100016\, United States
ORGANIZER;CN="Janine Garcia":MAILTO:janineg@hemophiliany.com
END:VEVENT
BEGIN:VEVENT
DTSTART;TZID=America/New_York:20260407T180000
DTEND;TZID=America/New_York:20260407T200000
DTSTAMP:20260423T105824
CREATED:20260331T142416Z
LAST-MODIFIED:20260331T142623Z
UID:1625-1775584800-1775592000@hemophiliany.com
SUMMARY:One Family Program - Celebrating World Hemophilia Day 2026
DESCRIPTION:REGISTER HERE !!!
URL:https://hemophiliany.com/event/one-family-program-celebrating-world-hemophilia-day-2026/
LOCATION:Meaux Space\, 305 7th Ave\, 17th Floor\,\, New York\, NY\, 10001\, United States
ORGANIZER;CN="Janine Garcia":MAILTO:janineg@hemophiliany.com
END:VEVENT
BEGIN:VEVENT
DTSTART;TZID=America/New_York:20260428T180000
DTEND;TZID=America/New_York:20260428T200000
DTSTAMP:20260423T105824
CREATED:20260331T145407Z
LAST-MODIFIED:20260331T145919Z
UID:1631-1777399200-1777406400@hemophiliany.com
SUMMARY:HANY x Pfizer Toma de Decisiones Compartida
DESCRIPTION: Regístrese Aquí !!!
URL:https://hemophiliany.com/event/hany-x-pfizer-toma-de-decisiones-compartida/
LOCATION:NY
END:VEVENT
BEGIN:VEVENT
DTSTART;TZID=America/New_York:20260501T080000
DTEND;TZID=America/New_York:20260503T170000
DTSTAMP:20260423T105824
CREATED:20260120T172909Z
LAST-MODIFIED:20260120T172909Z
UID:1591-1777622400-1777827600@hemophiliany.com
SUMMARY:Women’s Self-Care and Self-Advocacy Seminar at Mohonk Mountain House
DESCRIPTION:
URL:https://hemophiliany.com/event/womens-self-care-and-self-advocacy-seminar-at-mohonk-mountain-house/
LOCATION:Mohonk Mountain House\, 100 Mountain Rest RD\, New Paltz\, NY\, 12561\, United States
ORGANIZER;CN="Janine Garcia":MAILTO:janineg@hemophiliany.com
END:VEVENT
BEGIN:VEVENT
DTSTART;TZID=America/New_York:20260521T180000
DTEND;TZID=America/New_York:20260521T200000
DTSTAMP:20260423T105824
CREATED:20260331T150349Z
LAST-MODIFIED:20260331T150421Z
UID:1635-1779386400-1779393600@hemophiliany.com
SUMMARY:HANY x Novo Nordisk Alhemo Dinner
DESCRIPTION:Register Here !!!
URL:https://hemophiliany.com/event/hany-x-novo-nordisk-alhemo-dinner-2/
LOCATION:Ramerino Italian Prime\, 16 E 39th St\,\, New York NY 10016\, NY\, 100016\, United States
ORGANIZER;CN="Janine Garcia":MAILTO:janineg@hemophiliany.com
END:VEVENT
END:VCALENDAR