BEGIN:VCALENDAR
VERSION:2.0
PRODID:-//Hemophilia Association of New York - ECPv6.15.20//NONSGML v1.0//EN
CALSCALE:GREGORIAN
METHOD:PUBLISH
X-WR-CALNAME:Hemophilia Association of New York
X-ORIGINAL-URL:https://hemophiliany.com
X-WR-CALDESC:Events for Hemophilia Association of New York
REFRESH-INTERVAL;VALUE=DURATION:PT1H
X-Robots-Tag:noindex
X-PUBLISHED-TTL:PT1H
BEGIN:VTIMEZONE
TZID:America/New_York
BEGIN:DAYLIGHT
TZOFFSETFROM:-0500
TZOFFSETTO:-0400
TZNAME:EDT
DTSTART:20220313T070000
END:DAYLIGHT
BEGIN:STANDARD
TZOFFSETFROM:-0400
TZOFFSETTO:-0500
TZNAME:EST
DTSTART:20221106T060000
END:STANDARD
BEGIN:DAYLIGHT
TZOFFSETFROM:-0500
TZOFFSETTO:-0400
TZNAME:EDT
DTSTART:20230312T070000
END:DAYLIGHT
BEGIN:STANDARD
TZOFFSETFROM:-0400
TZOFFSETTO:-0500
TZNAME:EST
DTSTART:20231105T060000
END:STANDARD
BEGIN:DAYLIGHT
TZOFFSETFROM:-0500
TZOFFSETTO:-0400
TZNAME:EDT
DTSTART:20240310T070000
END:DAYLIGHT
BEGIN:STANDARD
TZOFFSETFROM:-0400
TZOFFSETTO:-0500
TZNAME:EST
DTSTART:20241103T060000
END:STANDARD
BEGIN:DAYLIGHT
TZOFFSETFROM:-0500
TZOFFSETTO:-0400
TZNAME:EDT
DTSTART:20250309T070000
END:DAYLIGHT
BEGIN:STANDARD
TZOFFSETFROM:-0400
TZOFFSETTO:-0500
TZNAME:EST
DTSTART:20251102T060000
END:STANDARD
END:VTIMEZONE
BEGIN:VEVENT
DTSTART;VALUE=DATE:20240517
DTEND;VALUE=DATE:20240520
DTSTAMP:20260423T080406
CREATED:20240124T184518Z
LAST-MODIFIED:20240402T202753Z
UID:501-1715904000-1716163199@hemophiliany.com
SUMMARY:Blood Brotherhood Weekend Retreat
DESCRIPTION:Enjoy a weekend retreat featuring educational sessions\, activities\, and time to share your experiences and connect with other community members. This event is for men 18+ living with rare bleeding disorders registered with HANY.  \nSpace is limited!!! \n>>>Register Today !!!<<<
URL:https://hemophiliany.com/event/blood-brotherhood-retreat/
LOCATION:Tarrytown House Estate on The Hudson\, 49 E Sunnyside Ln\, Tarrytown\, NY\, 10591\, United States
ORGANIZER;CN="Lina Garzon":MAILTO:lgarzon@hemophiliany.com
END:VEVENT
BEGIN:VEVENT
DTSTART;TZID=America/New_York:20240505T163000
DTEND;TZID=America/New_York:20240505T183000
DTSTAMP:20260423T080406
CREATED:20240402T165225Z
LAST-MODIFIED:20240408T200037Z
UID:577-1714926600-1714933800@hemophiliany.com
SUMMARY:Gene Therapy in Hemophilia
DESCRIPTION:Join us for a presentation to hear how gene therapy is designed to work and why eligibility testing is the first step on the gene therapy journey. Findings from a clinical trial will be shared and what they could mean for you. Learn how to get started\, what questions to ask your doctor\, and hear one patient’s experience. \nThis event is for those ages 17+ with severe or moderate Hemophilia and their significant other or parent. \nFood and refreshments will be provided. Space is limited! \nRegistration deadline: Monday\, April 29\, 2024 \n>>>>Register Today !!!<<<<
URL:https://hemophiliany.com/event/gene-therapy-in-hemophilia/
LOCATION:Jade Eatery\, 1 Station Square Suite 2\, Queens\, NY\, 11375\, United States
END:VEVENT
BEGIN:VEVENT
DTSTART;VALUE=DATE:20240426
DTEND;VALUE=DATE:20240429
DTSTAMP:20260423T080406
CREATED:20240124T183517Z
LAST-MODIFIED:20240402T202859Z
UID:499-1714089600-1714348799@hemophiliany.com
SUMMARY:Self Advocacy\, Independence & Leadership - S.A.I.L.
DESCRIPTION:Join us from Friday\, April 26-Sunday\, April 28\, 2024 for a weekend full of exciting sessions\, activities\, and fun at YMCA Camp Bernie! \nThis program is for teens of the bleeding disorders community ages 13-18. You are welcome to bring a friend\, sibling and/or accompanying parent/guardian. \nParents/guardians are not required to attend. There is no charge for this program. \nRound-trip transportation will be provided. A bus will be leaving from the HANY office on Friday\, April 26 at 5 pm. \nRegistration deadline: Monday\, April 15\, 2024  \n>>><<<
URL:https://hemophiliany.com/event/self-advocacy-independence-leadership-s-a-i-l/
LOCATION:YMCA Camp Bernie\, 327 Turkey Top Road\, Port Murray\, NJ\, 07865\, United States
ORGANIZER;CN="Elizabeth Cedeno":MAILTO:elizabethc@hemophiliany.com
END:VEVENT
BEGIN:VEVENT
DTSTART;TZID=America/New_York:20240309T103000
DTEND;TZID=America/New_York:20240309T133000
DTSTAMP:20260423T080406
CREATED:20240216T214027Z
LAST-MODIFIED:20240216T214027Z
UID:527-1709980200-1709991000@hemophiliany.com
SUMMARY:Visualiza tus Sueños
DESCRIPTION:¡Acompañanos el 9 de Marzo a las 10:30 am!\n\nEste taller te ayudará a manifestar tus sueños\, deseos y metas para este año en una forma física. Tendrás la oportunidad de crear tu propio tablero de visión. Creamos este taller de motivación para inspirar a nuestra comunidad en enfocarse en lo positivo y visualizar lo que desean o lo que se proponen en cumplir para este año.\n\nTambién tendremos una representante de CUNY Citizenship Now que nos hablará sobre los servicios de inmigración que ofrecen.\n \n\nFecha: Sábado\, 9 de Marzo de 2024\nHora: 10:30-1:30 pm\nLocación: Hemophilia Association of New York\, 131 West 33rd Street\, #11D\, New York\, NY 10001\n\nSe proporcionará almuerzo. Registración para este evento cerrara el 6 de Marzo. El espacio es limitado.\n\n\n\nRegister .
URL:https://hemophiliany.com/event/visualiza-tus-suenos/
LOCATION:Hemophilia Association of New York\, 131 W 33rd St\, New York\, NY\, 10001\, United States
ORGANIZER;CN="Lina Garzon":MAILTO:lgarzon@hemophiliany.com
END:VEVENT
BEGIN:VEVENT
DTSTART;VALUE=DATE:20231110
DTEND;VALUE=DATE:20231113
DTSTAMP:20260423T080406
CREATED:20230912T150629Z
LAST-MODIFIED:20230918T171219Z
UID:413-1699574400-1699833599@hemophiliany.com
SUMMARY:2023 Steven L. Margolies\, M.D. Family Educational Conference
DESCRIPTION:Join us for our best & biggest program of the year!\nThe Hemophilia Association of New York will be hosting our Annual Steven L. Margolies\, M.D. Family Educational Conference at Skytop Lodge this year. This educational conference is for anyone living with a bleeding disorder registered with HANY residing within the NY State service area. The conference will be a time for relationship centered adventure\, strengthening of family and community connections\, and education in the areas of nutrition\, health\, personal development\, and advocacy specific to the needs of all those attending. Programs\, meals\, and rooms are included. Transportation to and from Skytop Lodge will be available.
URL:https://hemophiliany.com/event/2023-steven-l-margolies-m-d-family-educational-conference/
LOCATION:Skytop Lodge\, 1 Skytop Dr\, Skytop\, PA\, 18357\, United States
ORGANIZER;CN="Lina Garzon":MAILTO:lgarzon@hemophiliany.com
END:VEVENT
BEGIN:VEVENT
DTSTART;TZID=America/New_York:20231021T101500
DTEND;TZID=America/New_York:20231021T133000
DTSTAMP:20260423T080406
CREATED:20230912T150803Z
LAST-MODIFIED:20231002T203857Z
UID:410-1697883300-1697895000@hemophiliany.com
SUMMARY:Celebración del Mes de la Herencia Hispana
DESCRIPTION:En celebración del mes de la herencia hispana\, este evento tendra un énfasis en los logros\, fortaleza y resiliencia de nuestra comunidad.  \nLourdes Humble de Pfizer presentará sobre el tema de “Adversidad\, Fortaleza y Resiliencia” y tendremos actividades donde celebraremos nuestros logros y la diversidad de nuestras culturas. \nAlmuerzo será incluido. Este evento es gratuito. \n¡Les tenemos sorpresas a los padres y hijos para el regreso a la escuela!
URL:https://hemophiliany.com/event/celebracion-del-mes-de-la-herencia-hispana/
LOCATION:220 E 23rd Street\, Suite 400 New York\, NY 10010\, 220 E 23rd Street Suite 400\, New York\, NY\, 10010\, United States
ORGANIZER;CN="Lina Garzon":MAILTO:lgarzon@hemophiliany.com
END:VEVENT
BEGIN:VEVENT
DTSTART;VALUE=DATE:20230922
DTEND;VALUE=DATE:20230925
DTSTAMP:20260423T080406
CREATED:20230912T151030Z
LAST-MODIFIED:20230918T171521Z
UID:407-1695340800-1695599999@hemophiliany.com
SUMMARY:2023 SAIL -  Self Advocacy\, Independence & Leadership Teen Retreat Program
DESCRIPTION:This program is for children of the bleeding disorders community ages 13-18\, siblings and accompanying parent / guardian for those under 18. \nThe focus of this program is: \nSelf Advocacy – “Who am I?”  “What is my story?”  “How can I best express my issues and needs?” \nIndependence – As teens move from childhood to early adulthood they would benefit from enhancing their skill sets required for independence.  Preparing for college\, work\, internships\, managing finances\, managing their health. \nLeadership – Specific exercises in leadership will build confidence and better decision making for this cohort.
URL:https://hemophiliany.com/event/2023-sail-self-advocacy-independence-leadership-teen-retreat-program/
LOCATION:Frost Valley YMCA Camp\, 2000 Frost Valley Rd\, Claryville\, NY\, 12725\, United States
ORGANIZER;CN="Lina Garzon":MAILTO:lgarzon@hemophiliany.com
END:VEVENT
END:VCALENDAR